BEGIN:VCALENDAR
VERSION:2.0
PRODID:-//Geopark - ECPv6.7.0//NONSGML v1.0//EN
CALSCALE:GREGORIAN
METHOD:PUBLISH
X-WR-CALNAME:Geopark
X-ORIGINAL-URL:https://geopark-erzderalpen.at/en
X-WR-CALDESC:Events for Geopark
REFRESH-INTERVAL;VALUE=DURATION:PT1H
X-Robots-Tag:noindex
X-PUBLISHED-TTL:PT1H
BEGIN:VTIMEZONE
TZID:Europe/Vienna
BEGIN:DAYLIGHT
TZOFFSETFROM:+0100
TZOFFSETTO:+0200
TZNAME:CEST
DTSTART:20260329T010000
END:DAYLIGHT
BEGIN:STANDARD
TZOFFSETFROM:+0200
TZOFFSETTO:+0100
TZNAME:CET
DTSTART:20261025T010000
END:STANDARD
END:VTIMEZONE
BEGIN:VEVENT
DTSTART;TZID=Europe/Vienna:20260425T090000
DTEND;TZID=Europe/Vienna:20260425T170000
DTSTAMP:20260423T142804
CREATED:20260216T085311Z
LAST-MODIFIED:20260302T094830Z
UID:3566-1777107600-1777136400@geopark-erzderalpen.at
SUMMARY:Kommunikation für's Leben - Vortragsreihe
DESCRIPTION:“Durchs Redn kemman d’Leut z’samm!! – Kommunikation für’s Leben. \n28. Februar\, 25. April\, 20. Juni\, 22. August\, 24. Oktober und 21. November 2026 von 9.00-17.00 Uhr \nLerne ein Werkzeug kennen\, wie du “scheinbar schwierige Themen” ansprechen kannst. \nAnmeldung unter: 06415 7529 oder info@sonnenterrasse.at
URL:https://geopark-erzderalpen.at/en/event/kommunikation-furs-leben-vortragsreihe/
LOCATION:Salzburg
ATTACH;FMTTYPE=image/png:https://geopark-erzderalpen.at/wp-content/uploads/2026/02/Bildschirmfoto-2026-02-16-um-09.28.26.png
END:VEVENT
END:VCALENDAR