BEGIN:VCALENDAR
VERSION:2.0
PRODID:-//Geopark - ECPv6.7.0//NONSGML v1.0//EN
CALSCALE:GREGORIAN
METHOD:PUBLISH
X-ORIGINAL-URL:https://geopark-erzderalpen.at
X-WR-CALDESC:Events for Geopark
REFRESH-INTERVAL;VALUE=DURATION:PT1H
X-Robots-Tag:noindex
X-PUBLISHED-TTL:PT1H
BEGIN:VTIMEZONE
TZID:Europe/Vienna
BEGIN:DAYLIGHT
TZOFFSETFROM:+0100
TZOFFSETTO:+0200
TZNAME:CEST
DTSTART:20260329T010000
END:DAYLIGHT
BEGIN:STANDARD
TZOFFSETFROM:+0200
TZOFFSETTO:+0100
TZNAME:CET
DTSTART:20261025T010000
END:STANDARD
END:VTIMEZONE
BEGIN:VEVENT
DTSTART;VALUE=DATE:20260517
DTEND;VALUE=DATE:20260518
DTSTAMP:20260423T201836
CREATED:20260302T080953Z
LAST-MODIFIED:20260302T080953Z
UID:3585-1778976000-1779062399@geopark-erzderalpen.at
SUMMARY:Museumswochenende Knappenheim
DESCRIPTION:Salzburger Museumswochenende im Knappenheim Mühlbach am Hochkönig 17. Mai 2026
URL:https://geopark-erzderalpen.at/event/museumswochenende-knappenheim/
LOCATION:Knappenheim Mühlbach am Hochkönig\, Mühlbach am Hochkönig 237\, Mühlbach am Hochkönig\, Salzburg\, 5505
ATTACH;FMTTYPE=image/jpeg:https://geopark-erzderalpen.at/wp-content/uploads/2024/03/1a777a49-fdaf-4f0e-a4c3-8cccccd6619f-2.jpg
END:VEVENT
BEGIN:VEVENT
DTSTART;TZID=Europe/Vienna:20260517T080000
DTEND;TZID=Europe/Vienna:20260517T170000
DTSTAMP:20260423T201836
CREATED:20260323T103940Z
LAST-MODIFIED:20260323T104034Z
UID:3624-1779004800-1779037200@geopark-erzderalpen.at
SUMMARY:Museums-Neueröffnung in Mühlbach am Hochkönig
DESCRIPTION:Zum Tag der Regionalmuseen wird das Bergbaumuseum im Knappenheim neu eröffnet. \nEintritt frei!
URL:https://geopark-erzderalpen.at/event/museums-neueroffnung-in-muhlbach-am-hochkonig/
LOCATION:Knappenheim Mühlbach am Hochkönig\, Mühlbach am Hochkönig 237\, Mühlbach am Hochkönig\, Salzburg\, 5505
ATTACH;FMTTYPE=image/jpeg:https://geopark-erzderalpen.at/wp-content/uploads/2024/03/1a777a49-fdaf-4f0e-a4c3-8cccccd6619f-2.jpg
END:VEVENT
BEGIN:VEVENT
DTSTART;TZID=Europe/Vienna:20260517T100000
DTEND;TZID=Europe/Vienna:20260517T160000
DTSTAMP:20260423T201836
CREATED:20260216T082802Z
LAST-MODIFIED:20260216T082802Z
UID:3564-1779012000-1779033600@geopark-erzderalpen.at
SUMMARY:Museumswochenende Seelackenmuseum
DESCRIPTION:Salzburger Museumswochenende im Seelackenmuseum St. Veit im Pongau \n17. Mai 2026
URL:https://geopark-erzderalpen.at/event/museumswochenende-seelackenmuseum/
LOCATION:Seelackenmuseum St.Veit im Pongau\, Museumsweg 1\, St.Veit im Pongau\, 5621\, Austria
ATTACH;FMTTYPE=image/jpeg:https://geopark-erzderalpen.at/wp-content/uploads/2024/03/IMG_5946-scaled-e1715630496919.jpeg
END:VEVENT
END:VCALENDAR